BEGIN:VCALENDAR
VERSION:2.0
PRODID:-//wp-events-plugin.com//7.2.3.1//EN
TZID:Europe/London
X-WR-TIMEZONE:Europe/London
BEGIN:VEVENT
UID:38@theb.network
DTSTART;TZID=Europe/London:20250630T190000
DTEND;TZID=Europe/London:20250630T203000
DTSTAMP:20250609T153439Z
URL:https://theb.network/em-events/discovery-group-2/
SUMMARY:Discovery Group
DESCRIPTION:A discovery group is for anyone who are curious about what the 
 Bible says and what it means for us today.  We meet to investigate some of
  the things Jesus said through asking key questions.  Everyone is welcome.
ATTACH;FMTTYPE=image/jpeg:https://theb.network/wp-content/uploads/2025/06/
 B42-Discovery-Group.png
CATEGORIES:B42
LOCATION:The Church Tavern\, 25 Church Road\, Perry Barr\, Birmingham\, B42
  2LA\, United Kingdom
X-APPLE-STRUCTURED-LOCATION;VALUE=URI;X-ADDRESS=25 Church Road\, Perry Barr
 \, Birmingham\, B42 2LA\, United Kingdom;X-APPLE-RADIUS=100;X-TITLE=The Ch
 urch Tavern:geo:0,0
END:VEVENT
BEGIN:VTIMEZONE
TZID:Europe/London
X-LIC-LOCATION:Europe/London
BEGIN:DAYLIGHT
DTSTART:20250330T020000
TZOFFSETFROM:+0000
TZOFFSETTO:+0100
TZNAME:BST
END:DAYLIGHT
END:VTIMEZONE
END:VCALENDAR